BEGIN:VCALENDAR
VERSION:2.0
PRODID:-//wp-events-plugin.com//7.2.3.1//EN
TZID:America/Toronto
X-WR-TIMEZONE:America/Toronto
BEGIN:VEVENT
UID:12@uttc.ca
DTSTART;TZID=America/Toronto:20220503T153000
DTEND;TZID=America/Toronto:20220503T170000
DTSTAMP:20220501T155008Z
URL:https://uttc.ca/events/uttc-high-school-track-and-field-clinic-session
 -2/
SUMMARY:UTTC High School Track and Field Clinic Session 2
DESCRIPTION:Long jump\, Triple Jump and High Jump Session\nThe University o
 f Toronto Track Club will be hosting a 3-week Track and Field Clinic for b
 oth athletes and coaches. The 3-week clinic will begin with 2 event specif
 ic training sessions and conclude with a mini meet.
ATTACH;FMTTYPE=image/jpeg:https://uttc.ca/wp-content/uploads/2022/02/UTTC_
 Logo-e1645560696319.png
LOCATION:The University of Toronto’s Varsity Stadium (St George Campus)\,
  299 Bloor St W\, Toronto\, ON\, M5S 1W2\, Canada
X-APPLE-STRUCTURED-LOCATION;VALUE=URI;X-ADDRESS=299 Bloor St W\, Toronto\, 
 ON\, M5S 1W2\, Canada;X-APPLE-RADIUS=100;X-TITLE=The University of Toronto
 ’s Varsity Stadium (St George Campus):geo:0,0
END:VEVENT
BEGIN:VTIMEZONE
TZID:America/Toronto
X-LIC-LOCATION:America/Toronto
BEGIN:DAYLIGHT
DTSTART:20220313T030000
TZOFFSETFROM:-0500
TZOFFSETTO:-0400
TZNAME:EDT
END:DAYLIGHT
END:VTIMEZONE
END:VCALENDAR